BEGIN:VCALENDAR
VERSION:2.0
PRODID:-//STADTKULTUR HAMBURG//kultur-hamburg.de///DE
CALSCALE:GREGORIAN
BEGIN:VEVENT
X-WR-TIMEZONE:Europe/Berlin
DTSTART:20130718T103000
DTEND:20130718T120000
LOCATION:KulturWerkstatt Harburg e.V. \, Kanalplatz 6 \, 21079 Hamburg
DTSTAMP:20260426T002639
SUMMARY:Orientalischer Tanz für Frauen
URL;VALUE=URI:https://www.kultur-hamburg.de/kurse_workshops/orientalischer-tanz-fuer-frauen-100007
DESCRIPTION:
UID:3f3fec8dc2e5ae86f5c534426c9fb3f8@kulturhamburg
END:VEVENT
END:VCALENDAR