BEGIN:VCALENDAR
VERSION:2.0
PRODID:-//STADTKULTUR HAMBURG//kultur-hamburg.de///DE
CALSCALE:GREGORIAN
BEGIN:VEVENT
X-WR-TIMEZONE:Europe/Berlin
DTSTART:20130919T103000
DTEND:20130919T120000
LOCATION:KulturWerkstatt Harburg e.V. \, Kanalplatz 6 \, 21079 Hamburg
DTSTAMP:20260423T092356
SUMMARY:Orientalischer Tanz für Frauen
URL;VALUE=URI:https://www.kultur-hamburg.de/kurse_workshops/orientalischer-tanz-fuer-frauen-100016
DESCRIPTION:
UID:9831c00fdb7c0fcf14e5f4959c2fdb2c@kulturhamburg
END:VEVENT
END:VCALENDAR