BEGIN:VCALENDAR
VERSION:2.0
PRODID:-//STADTKULTUR HAMBURG//kultur-hamburg.de///DE
CALSCALE:GREGORIAN
BEGIN:VEVENT
X-WR-TIMEZONE:Europe/Berlin
DTSTART:20131024T103000
DTEND:20131024T120000
LOCATION:KulturWerkstatt Harburg e.V. \, Kanalplatz 6 \, 21079 Hamburg
DTSTAMP:20260423T002004
SUMMARY:Orientalischer Tanz für Frauen
URL;VALUE=URI:https://www.kultur-hamburg.de/kurse_workshops/orientalischer-tanz-fuer-frauen-100021
DESCRIPTION:
UID:1b9cedb97c8259860d3eec0104e1a46e@kulturhamburg
END:VEVENT
END:VCALENDAR