BEGIN:VCALENDAR
VERSION:2.0
PRODID:-//STADTKULTUR HAMBURG//kultur-hamburg.de///DE
CALSCALE:GREGORIAN
BEGIN:VEVENT
X-WR-TIMEZONE:Europe/Berlin
DTSTART:20131205T103000
DTEND:20131205T120000
LOCATION:KulturWerkstatt Harburg e.V. \, Kanalplatz 6 \, 21079 Hamburg
DTSTAMP:20260422T141444
SUMMARY:Orientalischer Tanz für Frauen
URL;VALUE=URI:https://www.kultur-hamburg.de/kurse_workshops/orientalischer-tanz-fuer-frauen-100027
DESCRIPTION:
UID:62f604fdda2498f53bed98de241e1261@kulturhamburg
END:VEVENT
END:VCALENDAR