BEGIN:VCALENDAR
VERSION:2.0
PRODID:-//STADTKULTUR HAMBURG//kultur-hamburg.de///DE
CALSCALE:GREGORIAN
BEGIN:VEVENT
X-WR-TIMEZONE:Europe/Berlin
DTSTART:20130107T161500
DTEND:20130107T174500
LOCATION:Lenzsiedlung e.V. \, Julius-Vosseler-Straße 193 \, 22527 Hamburg
DTSTAMP:20260422T124259
SUMMARY:Computerkurs für Fortgeschrittene
URL;VALUE=URI:https://www.kultur-hamburg.de/kurse_workshops/computerkurs-fuer-fortgeschrittene-101400
DESCRIPTION:Texte schreiben, Tabellenkalkulation, Internetrecherche, den sicheren Umgang mit E-Mails und sozialen Netzwerken (Facebook & Co), Fotos bearbeiten uvm. ...
UID:13828b77885bce969d1fd5c39f563669@kulturhamburg
END:VEVENT
END:VCALENDAR