BEGIN:VCALENDAR
VERSION:2.0
PRODID:-//STADTKULTUR HAMBURG//kultur-hamburg.de///DE
CALSCALE:GREGORIAN
BEGIN:VEVENT
X-WR-TIMEZONE:Europe/Berlin
DTSTART:20130624T161500
DTEND:20130624T174500
LOCATION:Lenzsiedlung e.V. \, Julius-Vosseler-Straße 193 \, 22527 Hamburg
DTSTAMP:20260426T054136
SUMMARY:Computerkurs für Fortgeschrittene
URL;VALUE=URI:https://www.kultur-hamburg.de/kurse_workshops/computerkurs-fuer-fortgeschrittene-101424
DESCRIPTION:Texte schreiben, Tabellenkalkulation, Internetrecherche, den sicheren Umgang mit E-Mails und sozialen Netzwerken (Facebook & Co), Fotos bearbeiten uvm. ...
UID:5c8e24eb2dabbd44dc241ba4527ec689@kulturhamburg
END:VEVENT
END:VCALENDAR