BEGIN:VCALENDAR
VERSION:2.0
PRODID:-//STADTKULTUR HAMBURG//kultur-hamburg.de///DE
CALSCALE:GREGORIAN
BEGIN:VEVENT
X-WR-TIMEZONE:Europe/Berlin
DTSTART:20120222T161500
DTEND:20120222T171500
LOCATION:Backstube Fuhlsbüttel e.V. \, Am Hasenberge 48 \, 22337 Hamburg
DTSTAMP:20260423T015812
SUMMARY:KREATIVER TANZ
URL;VALUE=URI:https://www.kultur-hamburg.de/kurse_workshops/kreativer-tanz-105234
DESCRIPTION:Tanzen als Ausdruck für Lebensfreude!
Es sindkeine Vorkenntnisse notwendig.
Eine kostenlose Probestunde ist möglich.
UID:516fbc4392f7631d724ce4a748f7a450@kulturhamburg
END:VEVENT
END:VCALENDAR