BEGIN:VCALENDAR
VERSION:2.0
PRODID:-//STADTKULTUR HAMBURG//kultur-hamburg.de///DE
CALSCALE:GREGORIAN
BEGIN:VEVENT
X-WR-TIMEZONE:Europe/Berlin
DTSTART:20120229T161500
DTEND:20120229T171500
LOCATION:Backstube Fuhlsbüttel e.V. \, Am Hasenberge 48 \, 22337 Hamburg
DTSTAMP:20260423T033940
SUMMARY:KREATIVER TANZ
URL;VALUE=URI:https://www.kultur-hamburg.de/kurse_workshops/kreativer-tanz-105235
DESCRIPTION:Tanzen als Ausdruck für Lebensfreude!
Es sindkeine Vorkenntnisse notwendig.
Eine kostenlose Probestunde ist möglich.
UID:6f462a23cbe3d84b34d56f9b16b6857e@kulturhamburg
END:VEVENT
END:VCALENDAR