BEGIN:VCALENDAR
VERSION:2.0
PRODID:-//STADTKULTUR HAMBURG//kultur-hamburg.de///DE
CALSCALE:GREGORIAN
BEGIN:VEVENT
X-WR-TIMEZONE:Europe/Berlin
DTSTART:20120314T161500
DTEND:20120314T171500
LOCATION:Backstube Fuhlsbüttel e.V. \, Am Hasenberge 48 \, 22337 Hamburg
DTSTAMP:20260423T072015
SUMMARY:KREATIVER TANZ
URL;VALUE=URI:https://www.kultur-hamburg.de/kurse_workshops/kreativer-tanz-105237
DESCRIPTION:Tanzen als Ausdruck für Lebensfreude!
Es sindkeine Vorkenntnisse notwendig.
Eine kostenlose Probestunde ist möglich.
UID:67d9951f0bc52864790c4c5e4dbf9477@kulturhamburg
END:VEVENT
END:VCALENDAR