BEGIN:VCALENDAR
VERSION:2.0
PRODID:-//STADTKULTUR HAMBURG//kultur-hamburg.de///DE
CALSCALE:GREGORIAN
BEGIN:VEVENT
X-WR-TIMEZONE:Europe/Berlin
DTSTART:20120321T161500
DTEND:20120321T171500
LOCATION:Backstube Fuhlsbüttel e.V. \, Am Hasenberge 48 \, 22337 Hamburg
DTSTAMP:20260423T092610
SUMMARY:KREATIVER TANZ
URL;VALUE=URI:https://www.kultur-hamburg.de/kurse_workshops/kreativer-tanz-105238
DESCRIPTION:Tanzen als Ausdruck für Lebensfreude!
Es sindkeine Vorkenntnisse notwendig.
Eine kostenlose Probestunde ist möglich.
UID:5e0c4e05ad4813054f4760686aefeccf@kulturhamburg
END:VEVENT
END:VCALENDAR