BEGIN:VCALENDAR
VERSION:2.0
PRODID:-//STADTKULTUR HAMBURG//kultur-hamburg.de///DE
CALSCALE:GREGORIAN
BEGIN:VEVENT
X-WR-TIMEZONE:Europe/Berlin
DTSTART:20121017T161500
DTEND:20121017T171500
LOCATION:Backstube Fuhlsbüttel e.V. \, Am Hasenberge 48 \, 22337 Hamburg
DTSTAMP:20260423T053014
SUMMARY:KREATIVER TANZ
URL;VALUE=URI:https://www.kultur-hamburg.de/kurse_workshops/kreativer-tanz-105268
DESCRIPTION:Tanzen als Ausdruck für Lebensfreude!
Es sindkeine Vorkenntnisse notwendig.
Eine kostenlose Probestunde ist möglich.
UID:1d639779ac138ccdf340c782138b0a87@kulturhamburg
END:VEVENT
END:VCALENDAR