BEGIN:VCALENDAR
VERSION:2.0
PRODID:-//STADTKULTUR HAMBURG//kultur-hamburg.de///DE
CALSCALE:GREGORIAN
BEGIN:VEVENT
X-WR-TIMEZONE:Europe/Berlin
DTSTART:20120724T090000
DTEND:20120724T120000
LOCATION:Ev. Familienbildung Norderstedt \, Kirchenplatz 1 \, 22844 Norderstedt
DTSTAMP:20260424T012041
SUMMARY:Tod der Dosensuppe
URL;VALUE=URI:https://www.kultur-hamburg.de/kurse_workshops/tod-der-dosensuppe-105542
DESCRIPTION:Selbst kochen macht Spaß
Ein Kochkurs am Vormittag für Eltern mit geringem Einkommen!
UID:d189990e02ce70be2ca31db62e0e8603@kulturhamburg
END:VEVENT
END:VCALENDAR