BEGIN:VCALENDAR
VERSION:2.0
PRODID:-//STADTKULTUR HAMBURG//kultur-hamburg.de///DE
CALSCALE:GREGORIAN
BEGIN:VEVENT
X-WR-TIMEZONE:Europe/Berlin
DTSTART:20121015T100000
DTEND:20121015T120000
LOCATION:Ev. Familienbildung Eppendorf \, Loogeplatz 14/16 \, 20249 Hamburg
DTSTAMP:20260423T052953
SUMMARY:Aquarell und Zeichnung im Doppelpack
URL;VALUE=URI:https://www.kultur-hamburg.de/kurse_workshops/aquarell-und-zeichnung-im-doppelpack-105587
DESCRIPTION:Dieser Kurs verbindet die Zeichnung und das Aquarell als Methode. Mit diesem
Kontrastspiel experimentieren wir am Beispiel eines norddeutschen
Künstlers. Keine Vorkenntnisse erforderlich.
UID:4d3195e747e99a596bf1ac07b351dc42@kulturhamburg
END:VEVENT
END:VCALENDAR