BEGIN:VCALENDAR
VERSION:2.0
PRODID:-//STADTKULTUR HAMBURG//kultur-hamburg.de///DE
CALSCALE:GREGORIAN
BEGIN:VEVENT
X-WR-TIMEZONE:Europe/Berlin
DTSTART:20120822T100000
DTEND:20120822T113000
LOCATION:Ev. Familienbildung Eppendorf \, Loogeplatz 14/16 \, 20249 Hamburg
DTSTAMP:20260423T183004
SUMMARY:Englisch III
URL;VALUE=URI:https://www.kultur-hamburg.de/kurse_workshops/englisch-iii-105642
DESCRIPTION:Wenn Sie gern auf Englisch über Gott und die Welt sprechen und englische Texte lesen möchten, dann sind Sie bei uns richtig. Was gelesen wird entscheiden wir gemeinsam.
UID:75b3f38c442a71eead018c88edad54e2@kulturhamburg
END:VEVENT
END:VCALENDAR