BEGIN:VCALENDAR
VERSION:2.0
PRODID:-//STADTKULTUR HAMBURG//kultur-hamburg.de///DE
CALSCALE:GREGORIAN
BEGIN:VEVENT
X-WR-TIMEZONE:Europe/Berlin
DTSTART:20130730T170000
DTEND:20130730T190000
LOCATION:Bramfelder Kulturladen e. V. - BRAKULA \, Bramfelder Chaussee 265 \, 22177 Hamburg
DTSTAMP:20260425T205516
SUMMARY:Ferienworkshop Beatbox
URL;VALUE=URI:https://www.kultur-hamburg.de/kurse_workshops/ferienworkshop-beatbox-107650
DESCRIPTION:
UID:c19cce126630dae5529d82a1803696d2@kulturhamburg
END:VEVENT
END:VCALENDAR