BEGIN:VCALENDAR
VERSION:2.0
PRODID:-//STADTKULTUR HAMBURG//kultur-hamburg.de///DE
CALSCALE:GREGORIAN
BEGIN:VEVENT
X-WR-TIMEZONE:Europe/Berlin
DTSTART:20130723T153000
DTEND:20130723T173000
LOCATION:Bramfelder Kulturladen e. V. - BRAKULA \, Bramfelder Chaussee 265 \, 22177 Hamburg
DTSTAMP:20260425T223902
SUMMARY:Ferienworkshop HipHop
URL;VALUE=URI:https://www.kultur-hamburg.de/kurse_workshops/ferienworkshop-hiphop-108184
DESCRIPTION:
UID:d18811d6de970f6bd891c510e00ac835@kulturhamburg
END:VEVENT
END:VCALENDAR