BEGIN:VCALENDAR
VERSION:2.0
PRODID:-//STADTKULTUR HAMBURG//kultur-hamburg.de///DE
CALSCALE:GREGORIAN
BEGIN:VEVENT
X-WR-TIMEZONE:Europe/Berlin
DTSTART:20130722T100000
DTEND:20130722T123000
LOCATION:Bramfelder Kulturladen e. V. - BRAKULA \, Bramfelder Chaussee 265 \, 22177 Hamburg
DTSTAMP:20260425T224809
SUMMARY:Ferienworkshop "Kreativ mit Bausteinen"
URL;VALUE=URI:https://www.kultur-hamburg.de/kurse_workshops/ferienworkshop-kreativ-mit-bausteinen-108744
DESCRIPTION:
UID:1a6aef1a0905cb129ed7adc1cbe0a982@kulturhamburg
END:VEVENT
END:VCALENDAR