BEGIN:VCALENDAR
VERSION:2.0
PRODID:-//STADTKULTUR HAMBURG//kultur-hamburg.de///DE
CALSCALE:GREGORIAN
BEGIN:VEVENT
X-WR-TIMEZONE:Europe/Berlin
DTSTART:20130723T100000
DTEND:20130723T123000
LOCATION:Bramfelder Kulturladen e. V. - BRAKULA \, Bramfelder Chaussee 265 \, 22177 Hamburg
DTSTAMP:20260425T224736
SUMMARY:Ferienworkshop "Kreativ mit Bausteinen"
URL;VALUE=URI:https://www.kultur-hamburg.de/kurse_workshops/ferienworkshop-kreativ-mit-bausteinen-108745
DESCRIPTION:
UID:f4b219ea4407513f97d3d2786134ef00@kulturhamburg
END:VEVENT
END:VCALENDAR