BEGIN:VCALENDAR
VERSION:2.0
PRODID:-//STADTKULTUR HAMBURG//kultur-hamburg.de///DE
CALSCALE:GREGORIAN
BEGIN:VEVENT
X-WR-TIMEZONE:Europe/Berlin
DTSTART:20130110T170000
DTEND:20130110T180000
LOCATION:Bramfelder Kulturladen e. V. - BRAKULA \, Bramfelder Chaussee 265 \, 22177 Hamburg
DTSTAMP:20260422T124259
SUMMARY:Rückenfit im Juli
URL;VALUE=URI:https://www.kultur-hamburg.de/kurse_workshops/rueckenfit-im-juli-111470
DESCRIPTION:
UID:96b4ca763a33cc548c5adf586177dca1@kulturhamburg
END:VEVENT
END:VCALENDAR