BEGIN:VCALENDAR
VERSION:2.0
PRODID:-//STADTKULTUR HAMBURG//kultur-hamburg.de///DE
CALSCALE:GREGORIAN
BEGIN:VEVENT
X-WR-TIMEZONE:Europe/Berlin
DTSTART:20130711T170000
DTEND:20130711T180000
LOCATION:Bramfelder Kulturladen e. V. - BRAKULA \, Bramfelder Chaussee 265 \, 22177 Hamburg
DTSTAMP:20260426T021647
SUMMARY:Rückenfit im Juli
URL;VALUE=URI:https://www.kultur-hamburg.de/kurse_workshops/rueckenfit-im-juli-111496
DESCRIPTION:
UID:74e0b499d5890de50340c12ac1191df8@kulturhamburg
END:VEVENT
END:VCALENDAR