BEGIN:VCALENDAR
VERSION:2.0
PRODID:-//STADTKULTUR HAMBURG//kultur-hamburg.de///DE
CALSCALE:GREGORIAN
BEGIN:VEVENT
X-WR-TIMEZONE:Europe/Berlin
DTSTART:20130718T170000
DTEND:20130718T180000
LOCATION:Bramfelder Kulturladen e. V. - BRAKULA \, Bramfelder Chaussee 265 \, 22177 Hamburg
DTSTAMP:20260426T002650
SUMMARY:Rückenfit im Juli
URL;VALUE=URI:https://www.kultur-hamburg.de/kurse_workshops/rueckenfit-im-juli-111497
DESCRIPTION:
UID:8032674be33a33a7febac86b89d1f23d@kulturhamburg
END:VEVENT
END:VCALENDAR