BEGIN:VCALENDAR
VERSION:2.0
PRODID:-//STADTKULTUR HAMBURG//kultur-hamburg.de///DE
CALSCALE:GREGORIAN
BEGIN:VEVENT
X-WR-TIMEZONE:Europe/Berlin
DTSTART:20130815T170000
DTEND:20130815T180000
LOCATION:Bramfelder Kulturladen e. V. - BRAKULA \, Bramfelder Chaussee 265 \, 22177 Hamburg
DTSTAMP:20260425T175541
SUMMARY:Rückenfit im Juli
URL;VALUE=URI:https://www.kultur-hamburg.de/kurse_workshops/rueckenfit-im-juli-111501
DESCRIPTION:
UID:38c327410fc270cfec1075b2187bedf9@kulturhamburg
END:VEVENT
END:VCALENDAR