BEGIN:VCALENDAR
VERSION:2.0
PRODID:-//STADTKULTUR HAMBURG//kultur-hamburg.de///DE
CALSCALE:GREGORIAN
BEGIN:VEVENT
X-WR-TIMEZONE:Europe/Berlin
DTSTART:20131212T170000
DTEND:20131212T180000
LOCATION:Bramfelder Kulturladen e. V. - BRAKULA \, Bramfelder Chaussee 265 \, 22177 Hamburg
DTSTAMP:20260422T124458
SUMMARY:Rückenfit im Juli
URL;VALUE=URI:https://www.kultur-hamburg.de/kurse_workshops/rueckenfit-im-juli-111518
DESCRIPTION:
UID:82e3927f5c8fdccae66d1f88765df83b@kulturhamburg
END:VEVENT
END:VCALENDAR