BEGIN:VCALENDAR
VERSION:2.0
PRODID:-//STADTKULTUR HAMBURG//kultur-hamburg.de///DE
CALSCALE:GREGORIAN
BEGIN:VEVENT
X-WR-TIMEZONE:Europe/Berlin
DTSTART:20130624T110000
DTEND:20130624T160000
LOCATION:Bramfelder Kulturladen e. V. - BRAKULA \, Bramfelder Chaussee 265 \, 22177 Hamburg
DTSTAMP:20260426T054754
SUMMARY:Fotografieren will gelernt sein – digitale Fotografie für Jugendliche (kostenlos)
URL;VALUE=URI:https://www.kultur-hamburg.de/kurse_workshops/fotografieren-will-gelernt-sein--digitale-fotografie-fuer-jugendliche-kostenlos-112339
DESCRIPTION:
UID:c984d5dbeb1ce1d39f399cd4d6ed4f03@kulturhamburg
END:VEVENT
END:VCALENDAR