BEGIN:VCALENDAR
VERSION:2.0
PRODID:-//STADTKULTUR HAMBURG//kultur-hamburg.de///DE
CALSCALE:GREGORIAN
BEGIN:VEVENT
X-WR-TIMEZONE:Europe/Berlin
DTSTART:20130719T110000
DTEND:20130719T160000
LOCATION:Bramfelder Kulturladen e. V. - BRAKULA \, Bramfelder Chaussee 265 \, 22177 Hamburg
DTSTAMP:20260426T002652
SUMMARY:Einen Blick fürs Fotografieren entwickeln – digitale Fotografie für Jugendliche (kostenlos)
URL;VALUE=URI:https://www.kultur-hamburg.de/kurse_workshops/einen-blick-fuers-fotografieren-entwickeln--digitale-fotografie-fuer-jugendliche-kostenlos-112340
DESCRIPTION:
UID:53a3facc283ae0464be39a2825467163@kulturhamburg
END:VEVENT
END:VCALENDAR