BEGIN:VCALENDAR
VERSION:2.0
PRODID:-//STADTKULTUR HAMBURG//kultur-hamburg.de///DE
CALSCALE:GREGORIAN
BEGIN:VEVENT
X-WR-TIMEZONE:Europe/Berlin
DTSTART:20130723T110000
DTEND:20130723T170000
LOCATION:Bramfelder Kulturladen e. V. - BRAKULA \, Bramfelder Chaussee 265 \, 22177 Hamburg
DTSTAMP:20260425T224809
SUMMARY:Aus Fotos einen Film machen! (kostenlos)
URL;VALUE=URI:https://www.kultur-hamburg.de/kurse_workshops/aus-fotos-einen-film-machen!-kostenlos-112379
DESCRIPTION:
UID:6dd186260228550cea0bbb01fb49e896@kulturhamburg
END:VEVENT
END:VCALENDAR