BEGIN:VCALENDAR
VERSION:2.0
PRODID:-//STADTKULTUR HAMBURG//kultur-hamburg.de///DE
CALSCALE:GREGORIAN
BEGIN:VEVENT
X-WR-TIMEZONE:Europe/Berlin
DTSTART:20130729T150000
DTEND:20130729T180000
LOCATION:Bramfelder Kulturladen e. V. - BRAKULA \, Bramfelder Chaussee 265 \, 22177 Hamburg
DTSTAMP:20260425T210723
SUMMARY:Trickfilmworkshop (kostenlos)
URL;VALUE=URI:https://www.kultur-hamburg.de/kurse_workshops/trickfilmworkshop-kostenlos-112786
DESCRIPTION:
UID:aa77e371c1d45edbf68a4597c398c6e9@kulturhamburg
END:VEVENT
END:VCALENDAR