BEGIN:VCALENDAR
VERSION:2.0
PRODID:-//STADTKULTUR HAMBURG//kultur-hamburg.de///DE
CALSCALE:GREGORIAN
BEGIN:VEVENT
X-WR-TIMEZONE:Europe/Berlin
DTSTART:20130730T150000
DTEND:20130730T180000
LOCATION:Bramfelder Kulturladen e. V. - BRAKULA \, Bramfelder Chaussee 265 \, 22177 Hamburg
DTSTAMP:20260425T210722
SUMMARY:Trickfilmworkshop (kostenlos)
URL;VALUE=URI:https://www.kultur-hamburg.de/kurse_workshops/trickfilmworkshop-kostenlos-112787
DESCRIPTION:
UID:5b516d80b96a69d947b69c7a4036d116@kulturhamburg
END:VEVENT
END:VCALENDAR