BEGIN:VCALENDAR
VERSION:2.0
PRODID:-//STADTKULTUR HAMBURG//kultur-hamburg.de///DE
CALSCALE:GREGORIAN
BEGIN:VEVENT
X-WR-TIMEZONE:Europe/Berlin
DTSTART:20130625T110000
DTEND:20130627T150000
LOCATION:TASK Schauspielschule für Kinder und Jugendliche \, Stresemannstraße 163 (Neue Flora) \, 22769 Hamburg
DTSTAMP:20260426T054034
SUMMARY:Das Schauspiel-ABC - Ferienworkshop ab 10 J.  -  TASK Schauspielschule
URL;VALUE=URI:https://www.kultur-hamburg.de/kurse_workshops/das-schauspiel-abc-ferienworkshop-ab-10-j.--task-schauspielschule-113050
DESCRIPTION:
UID:1f4e668a1f6654db60304881a946e8fa@kulturhamburg
END:VEVENT
END:VCALENDAR