BEGIN:VCALENDAR
VERSION:2.0
PRODID:-//STADTKULTUR HAMBURG//kultur-hamburg.de///DE
CALSCALE:GREGORIAN
BEGIN:VEVENT
X-WR-TIMEZONE:Europe/Berlin
DTSTART:20130723T110000
DTEND:20130725T150000
LOCATION:TASK Schauspielschule für Kinder und Jugendliche \, Stresemannstraße 163 (Neue Flora) \, 22769 Hamburg
DTSTAMP:20260425T224823
SUMMARY:Das Schauspiel-ABC - Ferienworkshop ab 10 J.  -  TASK Schauspielschule
URL;VALUE=URI:https://www.kultur-hamburg.de/kurse_workshops/das-schauspiel-abc-ferienworkshop-ab-10-j.--task-schauspielschule-113054
DESCRIPTION:
UID:60abf91675a827c97c7176c191c4bfa8@kulturhamburg
END:VEVENT
END:VCALENDAR