BEGIN:VCALENDAR
VERSION:2.0
PRODID:-//STADTKULTUR HAMBURG//kultur-hamburg.de///DE
CALSCALE:GREGORIAN
BEGIN:VEVENT
X-WR-TIMEZONE:Europe/Berlin
DTSTART:20130722T110000
DTEND:20130724T150000
LOCATION:TASK Schauspielschule für Kinder und Jugendliche \, Stresemannstraße 163 (Neue Flora) \, 22769 Hamburg
DTSTAMP:20260425T224939
SUMMARY:Ferien-Workshop ab 10 J. - Wir drehen einen Film! TASK Schauspielschule
URL;VALUE=URI:https://www.kultur-hamburg.de/kurse_workshops/ferien-workshop-ab-10-j.-wir-drehen-einen-film!-task-schauspielschule-113061
DESCRIPTION:In diesem Ferienkurs entwickeln die Teilnehmer nach einem Drehbuch einen eigenen kl. Spielfilm. Die Kursgebühr beinhaltet eine DVD mit dem Kurzfilm!
UID:c80257c42677dd7148b7cc975f33abd7@kulturhamburg
END:VEVENT
END:VCALENDAR