BEGIN:VCALENDAR
VERSION:2.0
PRODID:-//STADTKULTUR HAMBURG//kultur-hamburg.de///DE
CALSCALE:GREGORIAN
BEGIN:VEVENT
X-WR-TIMEZONE:Europe/Berlin
DTSTART:20130625T193000
DTEND:20130625T213000
LOCATION:Medienbunker Hamburg \, Feldstraße 66 \, 20357 Hamburg
DTSTAMP:20260426T053842
SUMMARY:Improvisationstheater für Einsteiger
URL;VALUE=URI:https://www.kultur-hamburg.de/kurse_workshops/improvisationstheater-fuer-einsteiger-113121
DESCRIPTION:Fortlaufender Impro Workshop für Einsteiger
UID:dfa5f0d8c43057620d7df212f1c4c535@kulturhamburg
END:VEVENT
END:VCALENDAR