BEGIN:VCALENDAR
VERSION:2.0
PRODID:-//STADTKULTUR HAMBURG//kultur-hamburg.de///DE
CALSCALE:GREGORIAN
BEGIN:VEVENT
X-WR-TIMEZONE:Europe/Berlin
DTSTART:20130702T193000
DTEND:20130702T213000
LOCATION:Medienbunker Hamburg \, Feldstraße 66 \, 20357 Hamburg
DTSTAMP:20260426T040655
SUMMARY:Improvisationstheater für Einsteiger
URL;VALUE=URI:https://www.kultur-hamburg.de/kurse_workshops/improvisationstheater-fuer-einsteiger-113122
DESCRIPTION:Fortlaufender Impro Workshop für Einsteiger
UID:edcf78bc782b08d771fbbcaa91902276@kulturhamburg
END:VEVENT
END:VCALENDAR