BEGIN:VCALENDAR
VERSION:2.0
PRODID:-//STADTKULTUR HAMBURG//kultur-hamburg.de///DE
CALSCALE:GREGORIAN
BEGIN:VEVENT
X-WR-TIMEZONE:Europe/Berlin
DTSTART:20130709T193000
DTEND:20130709T213000
LOCATION:Medienbunker Hamburg \, Feldstraße 66 \, 20357 Hamburg
DTSTAMP:20260426T021710
SUMMARY:Improvisationstheater für Einsteiger
URL;VALUE=URI:https://www.kultur-hamburg.de/kurse_workshops/improvisationstheater-fuer-einsteiger-113123
DESCRIPTION:Fortlaufender Impro Workshop für Einsteiger
UID:c4f9dea7d5b973baf2f0f51d1ecc3f1a@kulturhamburg
END:VEVENT
END:VCALENDAR