BEGIN:VCALENDAR
VERSION:2.0
PRODID:-//STADTKULTUR HAMBURG//kultur-hamburg.de///DE
CALSCALE:GREGORIAN
BEGIN:VEVENT
X-WR-TIMEZONE:Europe/Berlin
DTSTART:20130716T193000
DTEND:20130716T213000
LOCATION:Medienbunker Hamburg \, Feldstraße 66 \, 20357 Hamburg
DTSTAMP:20260426T002650
SUMMARY:Improvisationstheater für Einsteiger
URL;VALUE=URI:https://www.kultur-hamburg.de/kurse_workshops/improvisationstheater-fuer-einsteiger-113124
DESCRIPTION:Fortlaufender Impro Workshop für Einsteiger
UID:a6f920c138e0805e86e873b9a70fd3ec@kulturhamburg
END:VEVENT
END:VCALENDAR