BEGIN:VCALENDAR
VERSION:2.0
PRODID:-//STADTKULTUR HAMBURG//kultur-hamburg.de///DE
CALSCALE:GREGORIAN
BEGIN:VEVENT
X-WR-TIMEZONE:Europe/Berlin
DTSTART:20130723T193000
DTEND:20130723T213000
LOCATION:Medienbunker Hamburg \, Feldstraße 66 \, 20357 Hamburg
DTSTAMP:20260425T224818
SUMMARY:Improvisationstheater für Einsteiger
URL;VALUE=URI:https://www.kultur-hamburg.de/kurse_workshops/improvisationstheater-fuer-einsteiger-113125
DESCRIPTION:Fortlaufender Impro Workshop für Einsteiger
UID:00a3cd17e06eb633c625d07cc248f3f5@kulturhamburg
END:VEVENT
END:VCALENDAR