BEGIN:VCALENDAR
VERSION:2.0
PRODID:-//STADTKULTUR HAMBURG//kultur-hamburg.de///DE
CALSCALE:GREGORIAN
BEGIN:VEVENT
X-WR-TIMEZONE:Europe/Berlin
DTSTART:20130707T150000
DTEND:20130707T163000
LOCATION:Bramfelder Kulturladen e. V. - BRAKULA \, Bramfelder Chaussee 265 \, 22177 Hamburg
DTSTAMP:20260426T040637
SUMMARY:Rock n'Roll und Boogie Woogie
URL;VALUE=URI:https://www.kultur-hamburg.de/kurse_workshops/rock-n'roll-und-boogie-woogie-113138
DESCRIPTION:
UID:fd97ab06be439637f31b9ab1be2c04eb@kulturhamburg
END:VEVENT
END:VCALENDAR