BEGIN:VCALENDAR
VERSION:2.0
PRODID:-//STADTKULTUR HAMBURG//kultur-hamburg.de///DE
CALSCALE:GREGORIAN
BEGIN:VEVENT
X-WR-TIMEZONE:Europe/Berlin
DTSTART:20130714T153000
DTEND:20130714T170000
LOCATION:Bramfelder Kulturladen e. V. - BRAKULA \, Bramfelder Chaussee 265 \, 22177 Hamburg
DTSTAMP:20260426T021710
SUMMARY:Rock n'Roll und Boogie Woogie
URL;VALUE=URI:https://www.kultur-hamburg.de/kurse_workshops/rock-n'roll-und-boogie-woogie-113139
DESCRIPTION:
UID:a9ca1e2e288be85e00c73b0a25f181d8@kulturhamburg
END:VEVENT
END:VCALENDAR