BEGIN:VCALENDAR
VERSION:2.0
PRODID:-//STADTKULTUR HAMBURG//kultur-hamburg.de///DE
CALSCALE:GREGORIAN
BEGIN:VEVENT
X-WR-TIMEZONE:Europe/Berlin
DTSTART:20130806T100000
DTEND:20130924T110000
LOCATION:Ev. Familienbildung Eppendorf \, Loogeplatz 14/16 \, 20249 Hamburg
DTSTAMP:20260425T191615
SUMMARY:Qigong Balance für Einsteiger und Fortgeschrittene
URL;VALUE=URI:https://www.kultur-hamburg.de/kurse_workshops/qigong-balance-fuer-einsteiger-und-fortgeschrittene-115017
DESCRIPTION:Mit Achtsamkeit ins Gleichgewicht
UID:6bd69472bb01126a2e5890668a98b309@kulturhamburg
END:VEVENT
END:VCALENDAR