BEGIN:VCALENDAR
VERSION:2.0
PRODID:-//STADTKULTUR HAMBURG//kultur-hamburg.de///DE
CALSCALE:GREGORIAN
BEGIN:VEVENT
X-WR-TIMEZONE:Europe/Berlin
DTSTART:20130806T181500
DTEND:20130924T194500
LOCATION:Ev. Familienbildung Eppendorf \, Loogeplatz 14/16 \, 20249 Hamburg
DTSTAMP:20260425T191727
SUMMARY:Qigong Balance für Einsteiger und Fortgeschrittene
URL;VALUE=URI:https://www.kultur-hamburg.de/kurse_workshops/qigong-balance-fuer-einsteiger-und-fortgeschrittene-115025
DESCRIPTION:Mit Achtsamkeit ins Gleichgewicht
UID:efc9d0fefc43c178ea99a505c77b12b5@kulturhamburg
END:VEVENT
END:VCALENDAR