BEGIN:VCALENDAR
VERSION:2.0
PRODID:-//STADTKULTUR HAMBURG//kultur-hamburg.de///DE
CALSCALE:GREGORIAN
BEGIN:VEVENT
X-WR-TIMEZONE:Europe/Berlin
DTSTART:20130722T100000
DTEND:20130726T120000
LOCATION:Ev. Familienbildung Blankenese \, Sülldorfer Kirchenweg 1b \, 22587 Hamburg
DTSTAMP:20260425T224823
SUMMARY:Kreativ-Kurs für Kinder
URL;VALUE=URI:https://www.kultur-hamburg.de/kurse_workshops/kreativ-kurs-fuer-kinder-115430
DESCRIPTION:Sommerferien-Spaß für kleine Künstler
In der letzten Sommerferienwoche bieten wir für Kinder eine Kreativ-Werkstatt an.
UID:3a316d78e1018724b0eb460f70cba7d2@kulturhamburg
END:VEVENT
END:VCALENDAR