BEGIN:VCALENDAR
VERSION:2.0
PRODID:-//STADTKULTUR HAMBURG//kultur-hamburg.de///DE
CALSCALE:GREGORIAN
BEGIN:VEVENT
X-WR-TIMEZONE:Europe/Berlin
DTSTART:20130716T100000
DTEND:20130730T113000
LOCATION:Ev. Familienbildung Norderstedt \, Kirchenplatz 1 \, 22844 Norderstedt
DTSTAMP:20260426T002722
SUMMARY:Geschichten aus der Bücherkiste für Kinder von 6 — 8 Jahren
URL;VALUE=URI:https://www.kultur-hamburg.de/kurse_workshops/geschichten-aus-der-buecherkiste-fuer-kinder-von-6-oe-8-jahren-115439
DESCRIPTION:Ihr habt ein Lieblingsbuch? Aber ihr seid auch neugierig auf andere lustige,
spannende, abenteuerlustige oder nachdenkliche Geschichten?
UID:15442b2ec59c1e40a07644b7d4043a60@kulturhamburg
END:VEVENT
END:VCALENDAR