BEGIN:VCALENDAR
VERSION:2.0
PRODID:-//STADTKULTUR HAMBURG//kultur-hamburg.de///DE
CALSCALE:GREGORIAN
BEGIN:VEVENT
X-WR-TIMEZONE:Europe/Berlin
DTSTART:20130624T110000
DTEND:20130624T140000
LOCATION:Ev. Familienbildung Norderstedt \, Kirchenplatz 1 \, 22844 Norderstedt
DTSTAMP:20260426T054840
SUMMARY:Kochen in den Sommerferien 1 für Jugendliche von 13 — 16 Jahren
URL;VALUE=URI:https://www.kultur-hamburg.de/kurse_workshops/kochen-in-den-sommerferien-1-fuer-jugendliche-von-13-oe-16-jahren-115448
DESCRIPTION:Noch wehmütige Erinnerungen an das leckere Essen im Urlaub? Lust
auf Moussaká, Fladenbrot, Tsatsiki und Pastitio?
UID:3fd8c056ae6d232ac6c159d7deb3e7a9@kulturhamburg
END:VEVENT
END:VCALENDAR