BEGIN:VCALENDAR
VERSION:2.0
PRODID:-//STADTKULTUR HAMBURG//kultur-hamburg.de///DE
CALSCALE:GREGORIAN
BEGIN:VEVENT
X-WR-TIMEZONE:Europe/Berlin
DTSTART:20130731T110000
DTEND:20130731T140000
LOCATION:Ev. Familienbildung Norderstedt \, Kirchenplatz 1 \, 22844 Norderstedt
DTSTAMP:20260425T210707
SUMMARY:Kochen in den Sommerferien 2 für Jugendliche von 12 — 15 Jahren
URL;VALUE=URI:https://www.kultur-hamburg.de/kurse_workshops/kochen-in-den-sommerferien-2-fuer-jugendliche-von-12-oe-15-jahren-115449
DESCRIPTION:Italienisches Essen besteht aus mehr als Pizza und Eis. Wir wollen Saltimbocca und Panna cotta zubereiten.
UID:8840e9fa1b2dce0ea1a51610a72923f2@kulturhamburg
END:VEVENT
END:VCALENDAR