BEGIN:VCALENDAR
VERSION:2.0
PRODID:-//STADTKULTUR HAMBURG//kultur-hamburg.de///DE
CALSCALE:GREGORIAN
BEGIN:VEVENT
X-WR-TIMEZONE:Europe/Berlin
DTSTART:20130709T110000
DTEND:20130709T123000
LOCATION:Lenzsiedlung e.V. \, Julius-Vosseler-Straße 193 \, 22527 Hamburg
DTSTAMP:20260426T021720
SUMMARY:Singkreis
URL;VALUE=URI:https://www.kultur-hamburg.de/kurse_workshops/singkreis-115742
DESCRIPTION:Offener Singkreis mit Gitarrenbegleitung
UID:d59be8480aa3f01fcd85e0a2be65153a@kulturhamburg
END:VEVENT
END:VCALENDAR