BEGIN:VCALENDAR
VERSION:2.0
PRODID:-//STADTKULTUR HAMBURG//kultur-hamburg.de///DE
CALSCALE:GREGORIAN
BEGIN:VEVENT
X-WR-TIMEZONE:Europe/Berlin
DTSTART:20130716T110000
DTEND:20130716T123000
LOCATION:Lenzsiedlung e.V. \, Julius-Vosseler-Straße 193 \, 22527 Hamburg
DTSTAMP:20260426T002722
SUMMARY:Singkreis
URL;VALUE=URI:https://www.kultur-hamburg.de/kurse_workshops/singkreis-115743
DESCRIPTION:Offener Singkreis mit Gitarrenbegleitung
UID:ef16cc77b6ceb409710bf517d6fc8165@kulturhamburg
END:VEVENT
END:VCALENDAR