BEGIN:VCALENDAR
VERSION:2.0
PRODID:-//STADTKULTUR HAMBURG//kultur-hamburg.de///DE
CALSCALE:GREGORIAN
BEGIN:VEVENT
X-WR-TIMEZONE:Europe/Berlin
DTSTART:20130827T110000
DTEND:20130827T123000
LOCATION:Lenzsiedlung e.V. \, Julius-Vosseler-Straße 193 \, 22527 Hamburg
DTSTAMP:20260425T142649
SUMMARY:Singkreis
URL;VALUE=URI:https://www.kultur-hamburg.de/kurse_workshops/singkreis-115750
DESCRIPTION:Offener Singkreis mit Gitarrenbegleitung
UID:8c93613c4a5775f94ae7f7a7b78c78d4@kulturhamburg
END:VEVENT
END:VCALENDAR