BEGIN:VCALENDAR
VERSION:2.0
PRODID:-//STADTKULTUR HAMBURG//kultur-hamburg.de///DE
CALSCALE:GREGORIAN
BEGIN:VEVENT
X-WR-TIMEZONE:Europe/Berlin
DTSTART:20131001T110000
DTEND:20131001T123000
LOCATION:Lenzsiedlung e.V. \, Julius-Vosseler-Straße 193 \, 22527 Hamburg
DTSTAMP:20260423T053014
SUMMARY:Singkreis
URL;VALUE=URI:https://www.kultur-hamburg.de/kurse_workshops/singkreis-115755
DESCRIPTION:Offener Singkreis mit Gitarrenbegleitung
UID:ab54297b43bd216a353fce45a33e7dad@kulturhamburg
END:VEVENT
END:VCALENDAR