BEGIN:VCALENDAR
VERSION:2.0
PRODID:-//STADTKULTUR HAMBURG//kultur-hamburg.de///DE
CALSCALE:GREGORIAN
BEGIN:VEVENT
X-WR-TIMEZONE:Europe/Berlin
DTSTART:20131022T110000
DTEND:20131022T123000
LOCATION:Lenzsiedlung e.V. \, Julius-Vosseler-Straße 193 \, 22527 Hamburg
DTSTAMP:20260423T001025
SUMMARY:Singkreis
URL;VALUE=URI:https://www.kultur-hamburg.de/kurse_workshops/singkreis-115758
DESCRIPTION:Offener Singkreis mit Gitarrenbegleitung
UID:75bfa2eceb209a1da18bf52bcaef5ece@kulturhamburg
END:VEVENT
END:VCALENDAR