BEGIN:VCALENDAR
VERSION:2.0
PRODID:-//STADTKULTUR HAMBURG//kultur-hamburg.de///DE
CALSCALE:GREGORIAN
BEGIN:VEVENT
X-WR-TIMEZONE:Europe/Berlin
DTSTART:20131224T110000
DTEND:20131224T123000
LOCATION:Lenzsiedlung e.V. \, Julius-Vosseler-Straße 193 \, 22527 Hamburg
DTSTAMP:20260420T095834
SUMMARY:Singkreis
URL;VALUE=URI:https://www.kultur-hamburg.de/kurse_workshops/singkreis-115767
DESCRIPTION:Offener Singkreis mit Gitarrenbegleitung
UID:8a772e5518a0852331591b53f0b5e703@kulturhamburg
END:VEVENT
END:VCALENDAR